BEGIN:VCALENDAR
VERSION:2.0
PRODID:-//HUC-HKH - ECPv6.15.17.1//NONSGML v1.0//EN
CALSCALE:GREGORIAN
METHOD:PUBLISH
X-WR-CALNAME:HUC-HKH
X-ORIGINAL-URL:https://huc-hkh.org
X-WR-CALDESC:Events for HUC-HKH
REFRESH-INTERVAL;VALUE=DURATION:PT1H
X-Robots-Tag:noindex
X-PUBLISHED-TTL:PT1H
BEGIN:VTIMEZONE
TZID:Asia/Kathmandu
BEGIN:STANDARD
TZOFFSETFROM:+0545
TZOFFSETTO:+0545
TZNAME:+0545
DTSTART:20180101T000000
END:STANDARD
END:VTIMEZONE
BEGIN:VEVENT
DTSTART;VALUE=DATE:20190808
DTEND;VALUE=DATE:20190919
DTSTAMP:20260426T064023
CREATED:20240910T081842Z
LAST-MODIFIED:20240911T101855Z
UID:2522-1565222400-1568851199@huc-hkh.org
SUMMARY:Asia-Pacific Water Leadership Programme
DESCRIPTION:Targeted Audience\nThe Water Leadership Programme (WLP) targets mid- and senior-level scholars and faculty members across disciplines of water studies and water resource management in the HKH\, who have a track-record experience in conducting research\, publishing\, training\, and engaging in policy dialogues on these topics. \nVenues\nThe WLP will be held in the Murray-Darling Basin of Australia\, along with classroom modules in Canberra\, Melbourne and Adelaide\, and field visits along the Murray River. \nImportant Dates\nProgram Dates: 8 April – 19 April 2018 \nDeadline for application: 17:00 Nepal Standard Time\, 5 February 2018 \nNotification of selection: 15 February 2018 \nBackground\nSouth Asia is home to about 21 percent of the global population\, but only roughly eight percent of the world’s annual renewable water resources. Population growth and urbanization are major drivers of change and increasing water stress in the region. The rivers of South Asia bear the brunt of this new demand for fresh water. About one billion people live in the three large transboundary basins of the region: the Indus\, Ganges and Brahmaputra. These rivers that emanate from the Himalaya are shared across borders between Afghanistan\, Bangladesh\, Bhutan\, China\, India\, Nepal and Pakistan. Climate change studies increasingly suggest that the effects of glacial melt\, temperature variations\, and erratic monsoon patterns will reduce the availability of water in the region and lead to a greater frequency of floods and drought. Despite the frequency and transboundary impacts of these extreme events\, cooperation between countries remains limited. \nA 12-day intensive programme\, co-organized by ICIMOD and the International Centre of Excellence on Water Resources Management (ICE WaRM)\, aims at providing a unique opportunity for mid- and senior-level scholars from HUC full members to learn of Australian experiences in water policy reform and improved use and management of water resources. The Programme will focus on integrated river basin management (IRBM) and governance\, including various aspects of the integrated water resources management (IWRM) approach\, including gender\, ecosystems\, social inclusiveness and community engagement\, public and private cooperation\, and water sharing between sectors and across states. \nCall For Applications\nApplicants must have at least 15 years progressive experience in water research and/or water resource management. Inter- or trans-disciplinary and/or trans-boundary experience in collaborative research\, training\, and policy-science dialogue is highly desirable. \nAge requirement: below 46 for men\, and below 51 for women. Women and people of minority/indigenous backgrounds are strongly encouraged to apply. \nFull funding to take part in the Programme will be provided to participants\, to be selected on competitive basis. \nDeadline for application is 5 February 2018
URL:https://huc-hkh.org/event/asia-pacific-water-leadership-programme/
LOCATION:Murray-Darling Basin\, Canberra\, Melbourne\, Adelaide\, Australia\, Australia
ATTACH;FMTTYPE=image/png:https://huc-hkh.org/wp-content/uploads/2024/09/ice-warm-logo.png
END:VEVENT
END:VCALENDAR